Package: alabaster.ranges Version: 1.0.0 Command: rm -rf alabaster.ranges.buildbin-libdir && mkdir alabaster.ranges.buildbin-libdir && F:\biocbuild\bbs-3.17-bioc\R\bin\R.exe CMD INSTALL --build --library=alabaster.ranges.buildbin-libdir alabaster.ranges_1.0.0.tar.gz StartedAt: 2023-10-16 08:23:51 -0400 (Mon, 16 Oct 2023) EndedAt: 2023-10-16 08:24:05 -0400 (Mon, 16 Oct 2023) EllapsedTime: 14.0 seconds RetCode: 0 Status: OK PackageFile: alabaster.ranges_1.0.0.zip PackageFileSize: 282.4 KiB