Package: alabaster.mae Version: 1.0.0 Command: chmod a+r alabaster.mae -R && F:\biocbuild\bbs-3.17-bioc\R\bin\R.exe CMD build --keep-empty-dirs --no-resave-data alabaster.mae StartedAt: 2023-10-15 17:12:11 -0400 (Sun, 15 Oct 2023) EndedAt: 2023-10-15 17:12:47 -0400 (Sun, 15 Oct 2023) EllapsedTime: 36.1 seconds RetCode: 0 Status: OK PackageFile: alabaster.mae_1.0.0.tar.gz PackageFileSize: 222.2 KiB