Package: alabaster.mae Version: 1.0.0 Command: rm -rf alabaster.mae.buildbin-libdir && mkdir alabaster.mae.buildbin-libdir && F:\biocbuild\bbs-3.17-bioc\R\bin\R.exe CMD INSTALL --build --library=alabaster.mae.buildbin-libdir alabaster.mae_1.0.0.tar.gz StartedAt: 2023-10-16 08:23:48 -0400 (Mon, 16 Oct 2023) EndedAt: 2023-10-16 08:24:14 -0400 (Mon, 16 Oct 2023) EllapsedTime: 26.2 seconds RetCode: 0 Status: OK PackageFile: alabaster.mae_1.0.0.zip PackageFileSize: 266.4 KiB