Package: alabaster.mae Version: 1.0.0 Command: /home/biocbuild/bbs-3.17-bioc/R/bin/R CMD check --install=check:alabaster.mae.install-out.txt --library=/home/biocbuild/bbs-3.17-bioc/R/site-library --timings alabaster.mae_1.0.0.tar.gz StartedAt: 2023-10-15 19:07:14 -0400 (Sun, 15 Oct 2023) EndedAt: 2023-10-15 19:10:25 -0400 (Sun, 15 Oct 2023) EllapsedTime: 191.2 seconds RetCode: 0 Status: OK CheckDir: alabaster.mae.Rcheck Warnings: 0