Package: alabaster.mae Version: 1.0.0 Command: rm -rf alabaster.mae.buildbin-libdir && mkdir alabaster.mae.buildbin-libdir && /Users/biocbuild/BBS/utils/build-universal.sh alabaster.mae_1.0.0.tar.gz /Library/Frameworks/R.framework/Resources/bin/R alabaster.mae.buildbin-libdir StartedAt: 2023-10-16 08:56:31 -0400 (Mon, 16 Oct 2023) EndedAt: 2023-10-16 08:57:52 -0400 (Mon, 16 Oct 2023) EllapsedTime: 80.5 seconds RetCode: 0 Status: OK PackageFile: alabaster.mae_1.0.0.tgz PackageFileSize: 262.4 KiB