Package: alabaster.bumpy Version: 1.0.0 Command: F:\biocbuild\bbs-3.17-bioc\R\bin\R.exe CMD INSTALL alabaster.bumpy StartedAt: 2023-10-15 15:58:36 -0400 (Sun, 15 Oct 2023) EndedAt: 2023-10-15 15:58:51 -0400 (Sun, 15 Oct 2023) EllapsedTime: 15.2 seconds RetCode: 0 Status: OK