Package: alabaster.bumpy Version: 1.0.0 Command: chmod a+r alabaster.bumpy -R && F:\biocbuild\bbs-3.17-bioc\R\bin\R.exe CMD build --keep-empty-dirs --no-resave-data alabaster.bumpy StartedAt: 2023-10-15 17:11:51 -0400 (Sun, 15 Oct 2023) EndedAt: 2023-10-15 17:12:11 -0400 (Sun, 15 Oct 2023) EllapsedTime: 20.0 seconds RetCode: 0 Status: OK PackageFile: alabaster.bumpy_1.0.0.tar.gz PackageFileSize: 234.9 KiB