Package: alabaster.bumpy Version: 1.0.0 Command: rm -rf alabaster.bumpy.buildbin-libdir && mkdir alabaster.bumpy.buildbin-libdir && F:\biocbuild\bbs-3.17-bioc\R\bin\R.exe CMD INSTALL --build --library=alabaster.bumpy.buildbin-libdir alabaster.bumpy_1.0.0.tar.gz StartedAt: 2023-10-16 08:23:46 -0400 (Mon, 16 Oct 2023) EndedAt: 2023-10-16 08:24:01 -0400 (Mon, 16 Oct 2023) EllapsedTime: 14.8 seconds RetCode: 0 Status: OK PackageFile: alabaster.bumpy_1.0.0.zip PackageFileSize: 257.1 KiB