Package: alabaster.bumpy Version: 1.0.0 Command: /home/biocbuild/bbs-3.17-bioc/R/bin/R CMD build --keep-empty-dirs --no-resave-data alabaster.bumpy StartedAt: 2023-10-15 15:53:42 -0400 (Sun, 15 Oct 2023) EndedAt: 2023-10-15 15:54:00 -0400 (Sun, 15 Oct 2023) EllapsedTime: 17.2 seconds RetCode: 0 Status: OK PackageFile: alabaster.bumpy_1.0.0.tar.gz PackageFileSize: 235 KiB