Package: alabaster.bumpy Version: 1.0.0 Command: /Library/Frameworks/R.framework/Resources/bin/R CMD build --keep-empty-dirs --no-resave-data alabaster.bumpy StartedAt: 2023-10-15 16:39:36 -0400 (Sun, 15 Oct 2023) EndedAt: 2023-10-15 16:40:20 -0400 (Sun, 15 Oct 2023) EllapsedTime: 44.0 seconds RetCode: 0 Status: OK PackageFile: alabaster.bumpy_1.0.0.tar.gz PackageFileSize: 234.8 KiB