Package: alabaster.base Version: 1.0.0 Command: F:\biocbuild\bbs-3.17-bioc\R\bin\R.exe CMD INSTALL alabaster.base StartedAt: 2023-10-15 15:54:38 -0400 (Sun, 15 Oct 2023) EndedAt: 2023-10-15 15:55:43 -0400 (Sun, 15 Oct 2023) EllapsedTime: 64.8 seconds RetCode: 0 Status: OK