Package: alabaster.base Version: 1.0.0 Command: /home/biocbuild/bbs-3.17-bioc/R/bin/R CMD INSTALL alabaster.base StartedAt: 2023-10-15 15:12:46 -0400 (Sun, 15 Oct 2023) EndedAt: 2023-10-15 15:13:41 -0400 (Sun, 15 Oct 2023) EllapsedTime: 55.7 seconds RetCode: 0 Status: OK