Package: alabaster.base Version: 1.0.0 Command: /home/biocbuild/bbs-3.17-bioc/R/bin/R CMD build --keep-empty-dirs --no-resave-data alabaster.base StartedAt: 2023-10-15 15:53:42 -0400 (Sun, 15 Oct 2023) EndedAt: 2023-10-15 15:54:42 -0400 (Sun, 15 Oct 2023) EllapsedTime: 59.5 seconds RetCode: 0 Status: OK PackageFile: alabaster.base_1.0.0.tar.gz PackageFileSize: 733.7 KiB