Package: alabaster.base Version: 1.0.0 Command: /Library/Frameworks/R.framework/Resources/bin/R CMD INSTALL alabaster.base StartedAt: 2023-10-15 15:17:54 -0400 (Sun, 15 Oct 2023) EndedAt: 2023-10-15 15:20:27 -0400 (Sun, 15 Oct 2023) EllapsedTime: 152.6 seconds RetCode: 0 Status: OK