git_url: https://git.bioconductor.org/packages/alabaster.base git_branch: RELEASE_3_17 git_last_commit: 97c0956 git_last_commit_date: 2023-04-25 11:42:44 -0400 (Tue, 25 Apr 2023) Package: alabaster.base Version: 1.0.0 Maintainer: Aaron Lun MaintainerEmail: infinite.monkeys.with.keyboards at gmail.com