Package: airpart Version: 1.8.0 Command: chmod a+r airpart -R && F:\biocbuild\bbs-3.17-bioc\R\bin\R.exe CMD build --keep-empty-dirs --no-resave-data airpart StartedAt: 2023-10-15 17:11:30 -0400 (Sun, 15 Oct 2023) EndedAt: 2023-10-15 17:12:57 -0400 (Sun, 15 Oct 2023) EllapsedTime: 87.1 seconds RetCode: 0 Status: OK PackageFile: airpart_1.8.0.tar.gz PackageFileSize: 710 KiB