Package: airpart Version: 1.8.0 Command: rm -rf airpart.buildbin-libdir && mkdir airpart.buildbin-libdir && F:\biocbuild\bbs-3.17-bioc\R\bin\R.exe CMD INSTALL --build --library=airpart.buildbin-libdir airpart_1.8.0.tar.gz StartedAt: 2023-10-16 08:23:42 -0400 (Mon, 16 Oct 2023) EndedAt: 2023-10-16 08:24:19 -0400 (Mon, 16 Oct 2023) EllapsedTime: 36.6 seconds RetCode: 0 Status: OK PackageFile: airpart_1.8.0.zip PackageFileSize: 802.6 KiB