Package: affylmGUI Version: 1.74.0 Command: /home/biocbuild/bbs-3.17-bioc/R/bin/R CMD build --keep-empty-dirs --no-resave-data affylmGUI StartedAt: 2023-10-15 15:53:11 -0400 (Sun, 15 Oct 2023) EndedAt: 2023-10-15 15:53:32 -0400 (Sun, 15 Oct 2023) EllapsedTime: 21.1 seconds RetCode: 0 Status: OK PackageFile: affylmGUI_1.74.0.tar.gz PackageFileSize: 1.657 MiB