Package: affylmGUI Version: 1.74.0 Command: /Library/Frameworks/R.framework/Resources/bin/R CMD INSTALL affylmGUI StartedAt: 2023-10-15 15:32:37 -0400 (Sun, 15 Oct 2023) EndedAt: 2023-10-15 15:33:46 -0400 (Sun, 15 Oct 2023) EllapsedTime: 68.4 seconds RetCode: 0 Status: OK