Package: affyio Version: 1.70.0 Command: F:\biocbuild\bbs-3.17-bioc\R\bin\R.exe CMD INSTALL affyio StartedAt: 2023-10-15 15:47:33 -0400 (Sun, 15 Oct 2023) EndedAt: 2023-10-15 15:48:01 -0400 (Sun, 15 Oct 2023) EllapsedTime: 27.9 seconds RetCode: 0 Status: OK