Package: affyio Version: 1.70.0 Command: chmod a+r affyio -R && F:\biocbuild\bbs-3.17-bioc\R\bin\R.exe CMD build --keep-empty-dirs --no-resave-data affyio StartedAt: 2023-10-15 17:10:44 -0400 (Sun, 15 Oct 2023) EndedAt: 2023-10-15 17:10:47 -0400 (Sun, 15 Oct 2023) EllapsedTime: 3.0 seconds RetCode: 0 Status: OK PackageFile: affyio_1.70.0.tar.gz PackageFileSize: 107.5 KiB