Package: affyio Version: 1.70.0 Command: rm -rf affyio.buildbin-libdir && mkdir affyio.buildbin-libdir && F:\biocbuild\bbs-3.17-bioc\R\bin\R.exe CMD INSTALL --build --library=affyio.buildbin-libdir affyio_1.70.0.tar.gz StartedAt: 2023-10-16 08:23:27 -0400 (Mon, 16 Oct 2023) EndedAt: 2023-10-16 08:23:55 -0400 (Mon, 16 Oct 2023) EllapsedTime: 28.6 seconds RetCode: 0 Status: OK PackageFile: affyio_1.70.0.zip PackageFileSize: 93.32 KiB