Package: affyio Version: 1.70.0 Command: /home/biocbuild/bbs-3.17-bioc/R/bin/R CMD check --install=check:affyio.install-out.txt --library=/home/biocbuild/bbs-3.17-bioc/R/site-library --timings affyio_1.70.0.tar.gz StartedAt: 2023-10-15 19:05:44 -0400 (Sun, 15 Oct 2023) EndedAt: 2023-10-15 19:05:57 -0400 (Sun, 15 Oct 2023) EllapsedTime: 12.7 seconds RetCode: 0 Status: WARNINGS CheckDir: affyio.Rcheck Warnings: 2