Package: affyio Version: 1.70.0 Command: /Library/Frameworks/R.framework/Resources/bin/R CMD check --install=check:affyio.install-out.txt --library=/Library/Frameworks/R.framework/Resources/library --no-vignettes --timings affyio_1.70.0.tar.gz StartedAt: 2023-10-15 22:21:17 -0400 (Sun, 15 Oct 2023) EndedAt: 2023-10-15 22:22:00 -0400 (Sun, 15 Oct 2023) EllapsedTime: 43.2 seconds RetCode: 0 Status: WARNINGS CheckDir: affyio.Rcheck Warnings: 2