Package: affycomp Version: 1.76.1 Command: F:\biocbuild\bbs-3.17-bioc\R\bin\R.exe CMD INSTALL affycomp StartedAt: 2023-10-15 15:48:43 -0400 (Sun, 15 Oct 2023) EndedAt: 2023-10-15 15:48:57 -0400 (Sun, 15 Oct 2023) EllapsedTime: 14.6 seconds RetCode: 0 Status: OK