Package: affycomp Version: 1.76.1 Command: /home/biocbuild/bbs-3.17-bioc/R/bin/R CMD build --keep-empty-dirs --no-resave-data affycomp StartedAt: 2023-10-15 15:53:01 -0400 (Sun, 15 Oct 2023) EndedAt: 2023-10-15 15:53:10 -0400 (Sun, 15 Oct 2023) EllapsedTime: 9.2 seconds RetCode: 0 Status: OK PackageFile: affycomp_1.76.1.tar.gz PackageFileSize: 7.873 MiB