Package: affyPLM Version: 1.76.1 Command: F:\biocbuild\bbs-3.17-bioc\R\bin\R.exe CMD check --no-multiarch --install=check:affyPLM.install-out.txt --library=F:\biocbuild\bbs-3.17-bioc\R\library --no-vignettes --timings affyPLM_1.76.1.tar.gz StartedAt: 2023-10-15 23:19:12 -0400 (Sun, 15 Oct 2023) EndedAt: 2023-10-15 23:21:42 -0400 (Sun, 15 Oct 2023) EllapsedTime: 150.3 seconds RetCode: 0 Status: WARNINGS CheckDir: affyPLM.Rcheck Warnings: 1