Package: affyPLM Version: 1.76.1 Command: chmod a+r affyPLM -R && F:\biocbuild\bbs-3.17-bioc\R\bin\R.exe CMD build --keep-empty-dirs --no-resave-data affyPLM StartedAt: 2023-10-15 17:10:48 -0400 (Sun, 15 Oct 2023) EndedAt: 2023-10-15 17:13:39 -0400 (Sun, 15 Oct 2023) EllapsedTime: 170.5 seconds RetCode: 0 Status: OK PackageFile: affyPLM_1.76.1.tar.gz PackageFileSize: 4.566 MiB