Package: affyPLM Version: 1.76.1 Command: rm -rf affyPLM.buildbin-libdir && mkdir affyPLM.buildbin-libdir && F:\biocbuild\bbs-3.17-bioc\R\bin\R.exe CMD INSTALL --build --library=affyPLM.buildbin-libdir affyPLM_1.76.1.tar.gz StartedAt: 2023-10-16 08:23:29 -0400 (Mon, 16 Oct 2023) EndedAt: 2023-10-16 08:24:26 -0400 (Mon, 16 Oct 2023) EllapsedTime: 56.7 seconds RetCode: 0 Status: OK PackageFile: affyPLM_1.76.1.zip PackageFileSize: 2.75 MiB