Package: affyPLM Version: 1.76.1 Command: /home/biocbuild/bbs-3.17-bioc/R/bin/R CMD check --install=check:affyPLM.install-out.txt --library=/home/biocbuild/bbs-3.17-bioc/R/site-library --timings affyPLM_1.76.1.tar.gz StartedAt: 2023-10-15 19:05:52 -0400 (Sun, 15 Oct 2023) EndedAt: 2023-10-15 19:11:24 -0400 (Sun, 15 Oct 2023) EllapsedTime: 332.2 seconds RetCode: 1 Status: ERROR CheckDir: affyPLM.Rcheck Warnings: NA