Package: affyPLM Version: 1.76.1 Command: /Library/Frameworks/R.framework/Resources/bin/R CMD check --install=check:affyPLM.install-out.txt --library=/Library/Frameworks/R.framework/Resources/library --no-vignettes --timings affyPLM_1.76.1.tar.gz StartedAt: 2023-10-15 22:21:17 -0400 (Sun, 15 Oct 2023) EndedAt: 2023-10-15 22:28:16 -0400 (Sun, 15 Oct 2023) EllapsedTime: 418.9 seconds RetCode: 0 Status: OK CheckDir: affyPLM.Rcheck Warnings: 0