Package: affyContam Version: 1.58.0 Command: F:\biocbuild\bbs-3.17-bioc\R\bin\R.exe CMD check --no-multiarch --install=check:affyContam.install-out.txt --library=F:\biocbuild\bbs-3.17-bioc\R\library --no-vignettes --timings affyContam_1.58.0.tar.gz StartedAt: 2023-10-15 23:18:24 -0400 (Sun, 15 Oct 2023) EndedAt: 2023-10-15 23:19:05 -0400 (Sun, 15 Oct 2023) EllapsedTime: 41.4 seconds RetCode: 0 Status: OK CheckDir: affyContam.Rcheck Warnings: 0