Package: affyContam Version: 1.58.0 Command: rm -rf affyContam.buildbin-libdir && mkdir affyContam.buildbin-libdir && F:\biocbuild\bbs-3.17-bioc\R\bin\R.exe CMD INSTALL --build --library=affyContam.buildbin-libdir affyContam_1.58.0.tar.gz StartedAt: 2023-10-16 08:23:20 -0400 (Mon, 16 Oct 2023) EndedAt: 2023-10-16 08:23:27 -0400 (Mon, 16 Oct 2023) EllapsedTime: 6.1 seconds RetCode: 0 Status: OK PackageFile: affyContam_1.58.0.zip PackageFileSize: 216.7 KiB