Package: affyContam Version: 1.58.0 Command: /Library/Frameworks/R.framework/Resources/bin/R CMD check --install=check:affyContam.install-out.txt --library=/Library/Frameworks/R.framework/Resources/library --no-vignettes --timings affyContam_1.58.0.tar.gz StartedAt: 2023-10-15 22:21:17 -0400 (Sun, 15 Oct 2023) EndedAt: 2023-10-15 22:22:57 -0400 (Sun, 15 Oct 2023) EllapsedTime: 100.1 seconds RetCode: 0 Status: OK CheckDir: affyContam.Rcheck Warnings: 0