Package: affyContam Version: 1.58.0 Command: /Library/Frameworks/R.framework/Resources/bin/R CMD build --keep-empty-dirs --no-resave-data affyContam StartedAt: 2023-10-15 16:38:35 -0400 (Sun, 15 Oct 2023) EndedAt: 2023-10-15 16:39:11 -0400 (Sun, 15 Oct 2023) EllapsedTime: 36.1 seconds RetCode: 0 Status: OK PackageFile: affyContam_1.58.0.tar.gz PackageFileSize: 504.3 KiB