Package: affyContam Version: 1.58.0 Command: rm -rf affyContam.buildbin-libdir && mkdir affyContam.buildbin-libdir && /Users/biocbuild/BBS/utils/build-universal.sh affyContam_1.58.0.tar.gz /Library/Frameworks/R.framework/Resources/bin/R affyContam.buildbin-libdir StartedAt: 2023-10-16 08:56:17 -0400 (Mon, 16 Oct 2023) EndedAt: 2023-10-16 08:56:31 -0400 (Mon, 16 Oct 2023) EllapsedTime: 14.1 seconds RetCode: 0 Status: OK PackageFile: affyContam_1.58.0.tgz PackageFileSize: 304.1 KiB