Package: affy Version: 1.78.2 Command: F:\biocbuild\bbs-3.17-bioc\R\bin\R.exe CMD check --no-multiarch --install=check:affy.install-out.txt --library=F:\biocbuild\bbs-3.17-bioc\R\library --no-vignettes --timings affy_1.78.2.tar.gz StartedAt: 2023-10-15 23:18:07 -0400 (Sun, 15 Oct 2023) EndedAt: 2023-10-15 23:20:22 -0400 (Sun, 15 Oct 2023) EllapsedTime: 134.3 seconds RetCode: 0 Status: WARNINGS CheckDir: affy.Rcheck Warnings: 1