Package: affy Version: 1.78.2 Command: rm -rf affy.buildbin-libdir && mkdir affy.buildbin-libdir && F:\biocbuild\bbs-3.17-bioc\R\bin\R.exe CMD INSTALL --build --library=affy.buildbin-libdir affy_1.78.2.tar.gz StartedAt: 2023-10-16 08:23:17 -0400 (Mon, 16 Oct 2023) EndedAt: 2023-10-16 08:23:48 -0400 (Mon, 16 Oct 2023) EllapsedTime: 31.2 seconds RetCode: 0 Status: OK PackageFile: affy_1.78.2.zip PackageFileSize: 1.485 MiB