Package: affy Version: 1.78.2 Command: /home/biocbuild/bbs-3.17-bioc/R/bin/R CMD INSTALL affy StartedAt: 2023-10-15 15:08:52 -0400 (Sun, 15 Oct 2023) EndedAt: 2023-10-15 15:09:03 -0400 (Sun, 15 Oct 2023) EllapsedTime: 11.8 seconds RetCode: 0 Status: OK