Package: affxparser Version: 1.72.0 Command: rm -rf affxparser.buildbin-libdir && mkdir affxparser.buildbin-libdir && /Users/biocbuild/BBS/utils/build-universal.sh affxparser_1.72.0.tar.gz /Library/Frameworks/R.framework/Resources/bin/R affxparser.buildbin-libdir StartedAt: 2023-10-16 08:56:17 -0400 (Mon, 16 Oct 2023) EndedAt: 2023-10-16 09:02:49 -0400 (Mon, 16 Oct 2023) EllapsedTime: 392.1 seconds RetCode: 0 Status: OK PackageFile: affxparser_1.72.0.tgz PackageFileSize: 1.678 MiB