Package: adductomicsR Version: 1.16.0 Command: /home/biocbuild/bbs-3.17-bioc/R/bin/R CMD build --keep-empty-dirs --no-resave-data adductomicsR StartedAt: 2023-10-15 15:52:56 -0400 (Sun, 15 Oct 2023) EndedAt: 2023-10-15 15:57:25 -0400 (Sun, 15 Oct 2023) EllapsedTime: 268.5 seconds RetCode: 0 Status: OK PackageFile: adductomicsR_1.16.0.tar.gz PackageFileSize: 752.1 KiB