git_url: https://git.bioconductor.org/packages/adductomicsR git_branch: RELEASE_3_17 git_last_commit: 7476fb3 git_last_commit_date: 2023-04-25 11:07:24 -0400 (Tue, 25 Apr 2023) Package: adductomicsR Version: 1.16.0 Maintainer: Josie Hayes MaintainerEmail: jlhayes1982 at gmail.com