Package: acde Version: 1.30.0 Command: /home/biocbuild/bbs-3.17-bioc/R/bin/R CMD INSTALL acde StartedAt: 2023-10-15 15:07:11 -0400 (Sun, 15 Oct 2023) EndedAt: 2023-10-15 15:07:20 -0400 (Sun, 15 Oct 2023) EllapsedTime: 8.8 seconds RetCode: 0 Status: OK