Package: acde Version: 1.30.0 Command: /home/biocbuild/bbs-3.17-bioc/R/bin/R CMD check --install=check:acde.install-out.txt --library=/home/biocbuild/bbs-3.17-bioc/R/site-library --timings acde_1.30.0.tar.gz StartedAt: 2023-10-15 19:05:11 -0400 (Sun, 15 Oct 2023) EndedAt: 2023-10-15 19:06:23 -0400 (Sun, 15 Oct 2023) EllapsedTime: 71.9 seconds RetCode: 0 Status: OK CheckDir: acde.Rcheck Warnings: 0