Package: acde Version: 1.30.0 Command: /Library/Frameworks/R.framework/Resources/bin/R CMD check --install=check:acde.install-out.txt --library=/Library/Frameworks/R.framework/Resources/library --no-vignettes --timings acde_1.30.0.tar.gz StartedAt: 2023-10-15 22:21:16 -0400 (Sun, 15 Oct 2023) EndedAt: 2023-10-15 22:24:26 -0400 (Sun, 15 Oct 2023) EllapsedTime: 189.0 seconds RetCode: 0 Status: OK CheckDir: acde.Rcheck Warnings: 0