Package: acde Version: 1.30.0 Command: /Library/Frameworks/R.framework/Resources/bin/R CMD build --keep-empty-dirs --no-resave-data acde StartedAt: 2023-10-15 16:38:35 -0400 (Sun, 15 Oct 2023) EndedAt: 2023-10-15 16:39:13 -0400 (Sun, 15 Oct 2023) EllapsedTime: 38.2 seconds RetCode: 0 Status: OK PackageFile: acde_1.30.0.tar.gz PackageFileSize: 8.876 MiB