Package: abseqR Version: 1.18.0 Command: /Library/Frameworks/R.framework/Resources/bin/R CMD INSTALL abseqR StartedAt: 2023-10-15 15:49:00 -0400 (Sun, 15 Oct 2023) EndedAt: 2023-10-15 15:49:39 -0400 (Sun, 15 Oct 2023) EllapsedTime: 40.0 seconds RetCode: 0 Status: OK