Package: aCGH Version: 1.78.0 Command: /home/biocbuild/bbs-3.17-bioc/R/bin/R CMD build --keep-empty-dirs --no-resave-data aCGH StartedAt: 2023-10-15 15:52:56 -0400 (Sun, 15 Oct 2023) EndedAt: 2023-10-15 15:53:23 -0400 (Sun, 15 Oct 2023) EllapsedTime: 26.7 seconds RetCode: 0 Status: OK PackageFile: aCGH_1.78.0.tar.gz PackageFileSize: 2.094 MiB