Package: aCGH Version: 1.78.0 Command: /Library/Frameworks/R.framework/Resources/bin/R CMD INSTALL aCGH StartedAt: 2023-10-15 16:06:39 -0400 (Sun, 15 Oct 2023) EndedAt: 2023-10-15 16:07:18 -0400 (Sun, 15 Oct 2023) EllapsedTime: 38.3 seconds RetCode: 0 Status: OK