Package: aCGH Version: 1.78.0 Command: /Library/Frameworks/R.framework/Resources/bin/R CMD check --install=check:aCGH.install-out.txt --library=/Library/Frameworks/R.framework/Resources/library --no-vignettes --timings aCGH_1.78.0.tar.gz StartedAt: 2023-10-15 22:21:16 -0400 (Sun, 15 Oct 2023) EndedAt: 2023-10-15 22:24:32 -0400 (Sun, 15 Oct 2023) EllapsedTime: 195.5 seconds RetCode: 0 Status: OK CheckDir: aCGH.Rcheck Warnings: 0